BEGIN:VCALENDAR
VERSION:2.0
PRODID:-//Neon Rush - 80&#039;s Feel Good Rock &amp; Pop Party Band - ECPv6.14.0//NONSGML v1.0//EN
CALSCALE:GREGORIAN
METHOD:PUBLISH
X-ORIGINAL-URL:https://neonrush.co.uk
X-WR-CALDESC:Events for Neon Rush - 80&#039;s Feel Good Rock &amp; Pop Party Band
REFRESH-INTERVAL;VALUE=DURATION:PT1H
X-Robots-Tag:noindex
X-PUBLISHED-TTL:PT1H
BEGIN:VTIMEZONE
TZID:Europe/London
BEGIN:DAYLIGHT
TZOFFSETFROM:+0000
TZOFFSETTO:+0100
TZNAME:BST
DTSTART:20260329T010000
END:DAYLIGHT
BEGIN:STANDARD
TZOFFSETFROM:+0100
TZOFFSETTO:+0000
TZNAME:GMT
DTSTART:20261025T010000
END:STANDARD
END:VTIMEZONE
BEGIN:VEVENT
DTSTART;TZID=Europe/London:20260123T203000
DTEND;TZID=Europe/London:20260123T230000
DTSTAMP:20260419T171734
CREATED:20251123T110931Z
LAST-MODIFIED:20251123T110931Z
UID:659-1769200200-1769209200@neonrush.co.uk
SUMMARY:San Clu Bar and Restaurant
DESCRIPTION:
URL:https://neonrush.co.uk/event/san-clu-bar-and-restaurant/
LOCATION:San Clu Bar and Restaurant\, Victoria Parade\, Ramsgate\, Kent\, CT11 8DT\, United Kingdom
END:VEVENT
BEGIN:VEVENT
DTSTART;TZID=Europe/London:20260124T210000
DTEND;TZID=Europe/London:20260124T230000
DTSTAMP:20260419T171734
CREATED:20251123T111123Z
LAST-MODIFIED:20251123T111123Z
UID:662-1769288400-1769295600@neonrush.co.uk
SUMMARY:The Churchill Tavern
DESCRIPTION:
URL:https://neonrush.co.uk/event/the-churchill-tavern-5/
LOCATION:Churchill Tavern\, 9-21 Paragon\, Ramsgate\, Kent\, CT11 9JX\, United Kingdom
END:VEVENT
END:VCALENDAR