BEGIN:VCALENDAR
VERSION:2.0
PRODID:-//Neon Rush - 80&#039;s Feel Good Rock &amp; Pop Party Band - ECPv6.14.0//NONSGML v1.0//EN
CALSCALE:GREGORIAN
METHOD:PUBLISH
X-WR-CALNAME:Neon Rush - 80&#039;s Feel Good Rock &amp; Pop Party Band
X-ORIGINAL-URL:https://neonrush.co.uk
X-WR-CALDESC:Events for Neon Rush - 80&#039;s Feel Good Rock &amp; Pop Party Band
REFRESH-INTERVAL;VALUE=DURATION:PT1H
X-Robots-Tag:noindex
X-PUBLISHED-TTL:PT1H
BEGIN:VTIMEZONE
TZID:Europe/London
BEGIN:DAYLIGHT
TZOFFSETFROM:+0000
TZOFFSETTO:+0100
TZNAME:BST
DTSTART:20220327T010000
END:DAYLIGHT
BEGIN:STANDARD
TZOFFSETFROM:+0100
TZOFFSETTO:+0000
TZNAME:GMT
DTSTART:20221030T010000
END:STANDARD
BEGIN:DAYLIGHT
TZOFFSETFROM:+0000
TZOFFSETTO:+0100
TZNAME:BST
DTSTART:20230326T010000
END:DAYLIGHT
BEGIN:STANDARD
TZOFFSETFROM:+0100
TZOFFSETTO:+0000
TZNAME:GMT
DTSTART:20231029T010000
END:STANDARD
END:VTIMEZONE
BEGIN:VEVENT
DTSTART;TZID=Europe/London:20230923T210000
DTEND;TZID=Europe/London:20230923T233000
DTSTAMP:20260420T041456
CREATED:20230414T164136Z
LAST-MODIFIED:20230414T164136Z
UID:313-1695502800-1695511800@neonrush.co.uk
SUMMARY:The Churchill Tavern\, Ramsgate
DESCRIPTION:
URL:https://neonrush.co.uk/event/the-churchill-tavern-ramsgate-2/
LOCATION:Churchill Tavern\, 9-21 Paragon\, Ramsgate\, Kent\, CT11 9JX\, United Kingdom
END:VEVENT
BEGIN:VEVENT
DTSTART;TZID=Europe/London:20230915T203000
DTEND;TZID=Europe/London:20230915T233000
DTSTAMP:20260420T041456
CREATED:20230414T164049Z
LAST-MODIFIED:20230414T164049Z
UID:311-1694809800-1694820600@neonrush.co.uk
SUMMARY:Christies Wine Bar & Bistro\, Birchington
DESCRIPTION:
URL:https://neonrush.co.uk/event/christies-wine-bar-bistro-birchington-2/
LOCATION:Christies Wine Bar & Bistro\, 1-5 Station Approach\, Birchington\, Kent\, CT79RD\, United Kingdom
END:VEVENT
BEGIN:VEVENT
DTSTART;TZID=Europe/London:20230813T190000
DTEND;TZID=Europe/London:20230813T213000
DTSTAMP:20260420T041456
CREATED:20230414T163753Z
LAST-MODIFIED:20230713T221847Z
UID:309-1691953200-1691962200@neonrush.co.uk
SUMMARY:The Pavilion\, Broadstairs
DESCRIPTION:
URL:https://neonrush.co.uk/event/the-pavilion-broadstairs/
LOCATION:The Pavilion Broadstairs\, Harbour St\, Broadstairs\, Kent\, CT10 1EU\, United Kingdom
END:VEVENT
BEGIN:VEVENT
DTSTART;TZID=Europe/London:20230811T203000
DTEND;TZID=Europe/London:20230811T230000
DTSTAMP:20260420T041456
CREATED:20230414T163422Z
LAST-MODIFIED:20230714T193848Z
UID:305-1691785800-1691794800@neonrush.co.uk
SUMMARY:The George Inn\, Broadstairs
DESCRIPTION:
URL:https://neonrush.co.uk/event/the-george-inn-broadstairs-2/
LOCATION:The George Inn\, 52 Albion Street\, Broadstairs\, Kent\, CT101NE\, United Kingdom
END:VEVENT
BEGIN:VEVENT
DTSTART;TZID=Europe/London:20230715T210000
DTEND;TZID=Europe/London:20230715T233000
DTSTAMP:20260420T041456
CREATED:20230713T222507Z
LAST-MODIFIED:20230713T222653Z
UID:458-1689454800-1689463800@neonrush.co.uk
SUMMARY:Cin Cin Bar\, Deal
DESCRIPTION:
URL:https://neonrush.co.uk/event/cin-cin-bar/
LOCATION:Cin Cin Bar\, 15a South Court\, Deal\, Kent\, CT14 7AF\, United Kingdom
END:VEVENT
BEGIN:VEVENT
DTSTART;TZID=Europe/London:20230708T203000
DTEND;TZID=Europe/London:20230708T233000
DTSTAMP:20260420T041456
CREATED:20230414T163325Z
LAST-MODIFIED:20230414T163325Z
UID:303-1688848200-1688859000@neonrush.co.uk
SUMMARY:Westgate Social Club
DESCRIPTION:
URL:https://neonrush.co.uk/event/westgate-social-club/
LOCATION:Westgate Social Club\, 26 St. Mildreds Rd\, Westgate-on-Sea\, Kent\, CT8 8QT\, United Kingdom
END:VEVENT
BEGIN:VEVENT
DTSTART;TZID=Europe/London:20230701T210000
DTEND;TZID=Europe/London:20230701T233000
DTSTAMP:20260420T041456
CREATED:20230414T163101Z
LAST-MODIFIED:20230414T163235Z
UID:298-1688245200-1688254200@neonrush.co.uk
SUMMARY:Birchington United Services Club
DESCRIPTION:
URL:https://neonrush.co.uk/event/birchington-united-services-club/
LOCATION:Birchington United Services Club\, 93 Station Rd\, Birchington\, Kent\, CT7 9RE\, United Kingdom
END:VEVENT
BEGIN:VEVENT
DTSTART;TZID=Europe/London:20230617T210000
DTEND;TZID=Europe/London:20230617T233000
DTSTAMP:20260420T041456
CREATED:20230414T162017Z
LAST-MODIFIED:20230414T163157Z
UID:292-1687035600-1687044600@neonrush.co.uk
SUMMARY:The Lord Byron\, Margate
DESCRIPTION:
URL:https://neonrush.co.uk/event/the-lord-byron/
LOCATION:The Lord Byron\, 111-113 Byron Ave\, Margate\, Kent\, CT9 1TX\, United Kingdom
END:VEVENT
BEGIN:VEVENT
DTSTART;TZID=Europe/London:20230603T203000
DTEND;TZID=Europe/London:20230603T233000
DTSTAMP:20260420T041456
CREATED:20230414T161729Z
LAST-MODIFIED:20230414T161729Z
UID:286-1685824200-1685835000@neonrush.co.uk
SUMMARY:The Hussar\, Garlinge
DESCRIPTION:
URL:https://neonrush.co.uk/event/the-hussar-garlinge/
LOCATION:The Hussar\, 219 Canterbury Rd\, Garlinge\, Margate\, Kent\, CT9 5JP\, United Kingdom
END:VEVENT
BEGIN:VEVENT
DTSTART;TZID=Europe/London:20230520T210000
DTEND;TZID=Europe/London:20230520T233000
DTSTAMP:20260420T041456
CREATED:20230414T145646Z
LAST-MODIFIED:20230414T145646Z
UID:235-1684616400-1684625400@neonrush.co.uk
SUMMARY:The Churchill Tavern\, Ramsgate
DESCRIPTION:
URL:https://neonrush.co.uk/event/the-churchill-tavern-ramsgate/
LOCATION:Churchill Tavern\, 9-21 Paragon\, Ramsgate\, Kent\, CT11 9JX\, United Kingdom
END:VEVENT
BEGIN:VEVENT
DTSTART;TZID=Europe/London:20230512T203000
DTEND;TZID=Europe/London:20230512T233000
DTSTAMP:20260420T041456
CREATED:20230414T145404Z
LAST-MODIFIED:20230414T150310Z
UID:233-1683923400-1683934200@neonrush.co.uk
SUMMARY:Christies Wine Bar & Bistro\, Birchington
DESCRIPTION:
URL:https://neonrush.co.uk/event/christies-wine-bar-bistro-birchington/
LOCATION:Christies Wine Bar & Bistro\, 1-5 Station Approach\, Birchington\, Kent\, CT79RD\, United Kingdom
END:VEVENT
BEGIN:VEVENT
DTSTART;TZID=Europe/London:20230429T203000
DTEND;TZID=Europe/London:20230429T233000
DTSTAMP:20260420T041456
CREATED:20230414T144900Z
LAST-MODIFIED:20230414T150245Z
UID:228-1682800200-1682811000@neonrush.co.uk
SUMMARY:The Northwood Club\, Ramsgate
DESCRIPTION:
URL:https://neonrush.co.uk/event/the-northwood-club-ramsgate/
LOCATION:The Northwood Club\, 55 Northwood Rd\, Ramsgate\, Kent\, CT126RS\, United Kingdom
END:VEVENT
BEGIN:VEVENT
DTSTART;TZID=Europe/London:20230422T203000
DTEND;TZID=Europe/London:20230422T233000
DTSTAMP:20260420T041456
CREATED:20230414T144537Z
LAST-MODIFIED:20230414T150343Z
UID:221-1682195400-1682206200@neonrush.co.uk
SUMMARY:The George Inn\, Broadstairs
DESCRIPTION:
URL:https://neonrush.co.uk/event/the-george-inn-broadstairs/
LOCATION:The George Inn\, 52 Albion Street\, Broadstairs\, Kent\, CT101NE\, United Kingdom
END:VEVENT
BEGIN:VEVENT
DTSTART;TZID=Europe/London:20220625T203000
DTEND;TZID=Europe/London:20220625T230000
DTSTAMP:20260420T041456
CREATED:20220112T141731Z
LAST-MODIFIED:20220112T141731Z
UID:54-1656189000-1656198000@neonrush.co.uk
SUMMARY:NEON RUSH @ Westgate Social Club 8:30PM
DESCRIPTION:
URL:https://neonrush.co.uk/event/neon-rush-westgate-social-club-830pm/
LOCATION:Westgate Social Club\, 26 St. Mildreds Rd\, Westgate-on-Sea\, Kent\, CT8 8QT\, United Kingdom
END:VEVENT
BEGIN:VEVENT
DTSTART;TZID=Europe/London:20220430T210000
DTEND;TZID=Europe/London:20220430T233000
DTSTAMP:20260420T041456
CREATED:20220112T141308Z
LAST-MODIFIED:20220112T141308Z
UID:49-1651352400-1651361400@neonrush.co.uk
SUMMARY:NEON RUSH @ Churchills Tavern 9PM
DESCRIPTION:
URL:https://neonrush.co.uk/event/neon-rush-churchills-tavern-9pm/
LOCATION:Churchill Tavern\, 9-21 Paragon\, Ramsgate\, Kent\, CT11 9JX\, United Kingdom
END:VEVENT
BEGIN:VEVENT
DTSTART;TZID=Europe/London:20220226T210000
DTEND;TZID=Europe/London:20220226T233000
DTSTAMP:20260420T041456
CREATED:20220112T140622Z
LAST-MODIFIED:20220112T140622Z
UID:46-1645909200-1645918200@neonrush.co.uk
SUMMARY:NEON RUSH @ Churchills Tavern\, Ramsgate 9PM
DESCRIPTION:
URL:https://neonrush.co.uk/event/neon-rush-churchills-tavern-ramsgate-9pm/
LOCATION:Churchill Tavern\, 9-21 Paragon\, Ramsgate\, Kent\, CT11 9JX\, United Kingdom
END:VEVENT
END:VCALENDAR