BEGIN:VCALENDAR
VERSION:2.0
PRODID:-//Neon Rush - 80&#039;s Feel Good Rock &amp; Pop Party Band - ECPv6.14.0//NONSGML v1.0//EN
CALSCALE:GREGORIAN
METHOD:PUBLISH
X-WR-CALNAME:Neon Rush - 80&#039;s Feel Good Rock &amp; Pop Party Band
X-ORIGINAL-URL:https://neonrush.co.uk
X-WR-CALDESC:Events for Neon Rush - 80&#039;s Feel Good Rock &amp; Pop Party Band
REFRESH-INTERVAL;VALUE=DURATION:PT1H
X-Robots-Tag:noindex
X-PUBLISHED-TTL:PT1H
BEGIN:VTIMEZONE
TZID:Europe/London
BEGIN:DAYLIGHT
TZOFFSETFROM:+0000
TZOFFSETTO:+0100
TZNAME:BST
DTSTART:20260329T010000
END:DAYLIGHT
BEGIN:STANDARD
TZOFFSETFROM:+0100
TZOFFSETTO:+0000
TZNAME:GMT
DTSTART:20261025T010000
END:STANDARD
BEGIN:DAYLIGHT
TZOFFSETFROM:+0000
TZOFFSETTO:+0100
TZNAME:BST
DTSTART:20270328T010000
END:DAYLIGHT
BEGIN:STANDARD
TZOFFSETFROM:+0100
TZOFFSETTO:+0000
TZNAME:GMT
DTSTART:20271031T010000
END:STANDARD
END:VTIMEZONE
BEGIN:VEVENT
DTSTART;TZID=Europe/London:20261031T210000
DTEND;TZID=Europe/London:20261031T230000
DTSTAMP:20260419T163347
CREATED:20251124T094327Z
LAST-MODIFIED:20251124T094327Z
UID:732-1793480400-1793487600@neonrush.co.uk
SUMMARY:Queens Head
DESCRIPTION:
URL:https://neonrush.co.uk/event/queens-head-3/
LOCATION:The Queens Head\, 78 Harbour Parade\, Ramsgate\, Kent\, CT11 8LP\, United Kingdom
END:VEVENT
BEGIN:VEVENT
DTSTART;TZID=Europe/London:20261128T203000
DTEND;TZID=Europe/London:20261128T230000
DTSTAMP:20260419T163347
CREATED:20251124T094439Z
LAST-MODIFIED:20251124T094439Z
UID:734-1795897800-1795906800@neonrush.co.uk
SUMMARY:Westgate Social Club
DESCRIPTION:
URL:https://neonrush.co.uk/event/westgate-social-club-7/
LOCATION:Westgate Social Club\, 26 St. Mildreds Rd\, Westgate-on-Sea\, Kent\, CT8 8QT\, United Kingdom
END:VEVENT
BEGIN:VEVENT
DTSTART;TZID=Europe/London:20261204T203000
DTEND;TZID=Europe/London:20261204T230000
DTSTAMP:20260419T163347
CREATED:20251124T094700Z
LAST-MODIFIED:20251124T094700Z
UID:736-1796416200-1796425200@neonrush.co.uk
SUMMARY:Christies Wine Bar & Bistro
DESCRIPTION:
URL:https://neonrush.co.uk/event/christies-wine-bar-bistro-2/
LOCATION:Christies Wine Bar & Bistro\, 1-5 Station Approach\, Birchington\, Kent\, CT79RD\, United Kingdom
END:VEVENT
BEGIN:VEVENT
DTSTART;TZID=Europe/London:20261205T203000
DTEND;TZID=Europe/London:20261205T230000
DTSTAMP:20260419T163347
CREATED:20251124T094755Z
LAST-MODIFIED:20251124T094755Z
UID:739-1796502600-1796511600@neonrush.co.uk
SUMMARY:The Northwood Club
DESCRIPTION:
URL:https://neonrush.co.uk/event/the-northwood-club-6/
LOCATION:The Northwood Club\, 55 Northwood Rd\, Ramsgate\, Kent\, CT126RS\, United Kingdom
END:VEVENT
BEGIN:VEVENT
DTSTART;TZID=Europe/London:20261212T210000
DTEND;TZID=Europe/London:20261212T233000
DTSTAMP:20260419T163347
CREATED:20251124T094838Z
LAST-MODIFIED:20251124T094838Z
UID:741-1797109200-1797118200@neonrush.co.uk
SUMMARY:The Churchill Tavern
DESCRIPTION:
URL:https://neonrush.co.uk/event/the-churchill-tavern-8/
LOCATION:Churchill Tavern\, 9-21 Paragon\, Ramsgate\, Kent\, CT11 9JX\, United Kingdom
END:VEVENT
BEGIN:VEVENT
DTSTART;TZID=Europe/London:20270101T130000
DTEND;TZID=Europe/London:20270101T150000
DTSTAMP:20260419T163347
CREATED:20251124T094932Z
LAST-MODIFIED:20251124T094932Z
UID:743-1798808400-1798815600@neonrush.co.uk
SUMMARY:Queens Head
DESCRIPTION:
URL:https://neonrush.co.uk/event/queens-head-4/
LOCATION:The Queens Head\, 78 Harbour Parade\, Ramsgate\, Kent\, CT11 8LP\, United Kingdom
END:VEVENT
END:VCALENDAR