BEGIN:VCALENDAR
VERSION:2.0
PRODID:-//Neon Rush - 80&#039;s Feel Good Rock &amp; Pop Party Band - ECPv6.14.0//NONSGML v1.0//EN
CALSCALE:GREGORIAN
METHOD:PUBLISH
X-WR-CALNAME:Neon Rush - 80&#039;s Feel Good Rock &amp; Pop Party Band
X-ORIGINAL-URL:https://neonrush.co.uk
X-WR-CALDESC:Events for Neon Rush - 80&#039;s Feel Good Rock &amp; Pop Party Band
REFRESH-INTERVAL;VALUE=DURATION:PT1H
X-Robots-Tag:noindex
X-PUBLISHED-TTL:PT1H
BEGIN:VTIMEZONE
TZID:Europe/London
BEGIN:DAYLIGHT
TZOFFSETFROM:+0000
TZOFFSETTO:+0100
TZNAME:BST
DTSTART:20230326T010000
END:DAYLIGHT
BEGIN:STANDARD
TZOFFSETFROM:+0100
TZOFFSETTO:+0000
TZNAME:GMT
DTSTART:20231029T010000
END:STANDARD
BEGIN:DAYLIGHT
TZOFFSETFROM:+0000
TZOFFSETTO:+0100
TZNAME:BST
DTSTART:20240331T010000
END:DAYLIGHT
BEGIN:STANDARD
TZOFFSETFROM:+0100
TZOFFSETTO:+0000
TZNAME:GMT
DTSTART:20241027T010000
END:STANDARD
END:VTIMEZONE
BEGIN:VEVENT
DTSTART;TZID=Europe/London:20240828T193000
DTEND;TZID=Europe/London:20240828T220000
DTSTAMP:20260419T231539
CREATED:20240815T112930Z
LAST-MODIFIED:20240815T113050Z
UID:570-1724873400-1724882400@neonrush.co.uk
SUMMARY:Broadstairs Fireworks Finale At The Broadstairs Pavilion
DESCRIPTION:
URL:https://neonrush.co.uk/event/broadstairs-fireworks-finale-at-the-broadstairs-pavilion/
LOCATION:The Pavilion Broadstairs\, Harbour St\, Broadstairs\, Kent\, CT10 1EU\, United Kingdom
END:VEVENT
BEGIN:VEVENT
DTSTART;TZID=Europe/London:20240817T203000
DTEND;TZID=Europe/London:20240817T223000
DTSTAMP:20260419T231539
CREATED:20231218T221850Z
LAST-MODIFIED:20231218T221850Z
UID:512-1723926600-1723933800@neonrush.co.uk
SUMMARY:Dymchurch RBL Club
DESCRIPTION:
URL:https://neonrush.co.uk/event/dymchurch-rbl-club-2/
LOCATION:Dymchurch RBL Club\, Memorial Hall\, Sea Wall\, Dymchurch\, Romney Marsh\, Kent\, TN29 0TG\, United Kingdom
END:VEVENT
BEGIN:VEVENT
DTSTART;TZID=Europe/London:20240815T210000
DTEND;TZID=Europe/London:20240815T230000
DTSTAMP:20260419T231539
CREATED:20231218T221642Z
LAST-MODIFIED:20231218T221642Z
UID:510-1723755600-1723762800@neonrush.co.uk
SUMMARY:The Counting House
DESCRIPTION:
URL:https://neonrush.co.uk/event/the-counting-house-2/
LOCATION:The Counting House\, 42 High St\, Broadstairs\, Kent\, CT10 1JT\, United Kingdom
END:VEVENT
BEGIN:VEVENT
DTSTART;TZID=Europe/London:20240811T210000
DTEND;TZID=Europe/London:20240811T220000
DTSTAMP:20260419T231539
CREATED:20231218T221544Z
LAST-MODIFIED:20231218T221544Z
UID:508-1723410000-1723413600@neonrush.co.uk
SUMMARY:The Pavilion
DESCRIPTION:
URL:https://neonrush.co.uk/event/the-pavilion/
LOCATION:The Pavilion Broadstairs\, Harbour St\, Broadstairs\, Kent\, CT10 1EU\, United Kingdom
END:VEVENT
BEGIN:VEVENT
DTSTART;TZID=Europe/London:20240809T203000
DTEND;TZID=Europe/London:20240809T230000
DTSTAMP:20260419T231539
CREATED:20231218T205527Z
LAST-MODIFIED:20231218T205527Z
UID:506-1723235400-1723244400@neonrush.co.uk
SUMMARY:The George Inn
DESCRIPTION:
URL:https://neonrush.co.uk/event/the-george-inn-2/
LOCATION:The George Inn\, 52 Albion Street\, Broadstairs\, Kent\, CT101NE\, United Kingdom
END:VEVENT
BEGIN:VEVENT
DTSTART;TZID=Europe/London:20240721T140000
DTEND;TZID=Europe/London:20240721T170000
DTSTAMP:20260419T231539
CREATED:20240617T133342Z
LAST-MODIFIED:20240617T133342Z
UID:544-1721570400-1721581200@neonrush.co.uk
SUMMARY:The Toll Bridge
DESCRIPTION:
URL:https://neonrush.co.uk/event/the-toll-bridge/
LOCATION:The Toll Bridge\, 7 Fishermans Wharf\, Sandwich\, Kent\, CT13 9RU\, United Kingdom
END:VEVENT
BEGIN:VEVENT
DTSTART;TZID=Europe/London:20240720T203000
DTEND;TZID=Europe/London:20240720T230000
DTSTAMP:20260419T231539
CREATED:20231218T205436Z
LAST-MODIFIED:20231218T205436Z
UID:504-1721507400-1721516400@neonrush.co.uk
SUMMARY:Westgate Social Club
DESCRIPTION:
URL:https://neonrush.co.uk/event/westgate-social-club-4/
LOCATION:Westgate Social Club\, 26 St. Mildreds Rd\, Westgate-on-Sea\, Kent\, CT8 8QT\, United Kingdom
END:VEVENT
BEGIN:VEVENT
DTSTART;TZID=Europe/London:20240706T210000
DTEND;TZID=Europe/London:20240706T230000
DTSTAMP:20260419T231539
CREATED:20231218T205343Z
LAST-MODIFIED:20231218T205343Z
UID:502-1720299600-1720306800@neonrush.co.uk
SUMMARY:The Churchill Tavern
DESCRIPTION:
URL:https://neonrush.co.uk/event/the-churchill-tavern-2/
LOCATION:Churchill Tavern\, 9-21 Paragon\, Ramsgate\, Kent\, CT11 9JX\, United Kingdom
END:VEVENT
BEGIN:VEVENT
DTSTART;TZID=Europe/London:20240629T210000
DTEND;TZID=Europe/London:20240629T230000
DTSTAMP:20260419T231539
CREATED:20231218T205144Z
LAST-MODIFIED:20231218T205144Z
UID:499-1719694800-1719702000@neonrush.co.uk
SUMMARY:Ramsgate Royal British Legion Club
DESCRIPTION:
URL:https://neonrush.co.uk/event/ramsgate-royal-british-legion-club/
LOCATION:Ramsgate Royal British Legion Club\, Allenby House at 16 Cliff Street\, Ramsgate\, Kent\, CT11 9HS\, United Kingdom
END:VEVENT
BEGIN:VEVENT
DTSTART;TZID=Europe/London:20240615T203000
DTEND;TZID=Europe/London:20240615T230000
DTSTAMP:20260419T231539
CREATED:20231218T204620Z
LAST-MODIFIED:20231218T204724Z
UID:497-1718483400-1718492400@neonrush.co.uk
SUMMARY:The Northwood Club
DESCRIPTION:
URL:https://neonrush.co.uk/event/the-northwood-club/
LOCATION:The Northwood Club\, 55 Northwood Rd\, Ramsgate\, Kent\, CT126RS\, United Kingdom
END:VEVENT
BEGIN:VEVENT
DTSTART;TZID=Europe/London:20240608T203000
DTEND;TZID=Europe/London:20240608T230000
DTSTAMP:20260419T231539
CREATED:20231218T204519Z
LAST-MODIFIED:20231218T204519Z
UID:495-1717878600-1717887600@neonrush.co.uk
SUMMARY:The Hussar
DESCRIPTION:
URL:https://neonrush.co.uk/event/the-hussar/
LOCATION:The Hussar\, 219 Canterbury Rd\, Garlinge\, Margate\, Kent\, CT9 5JP\, United Kingdom
END:VEVENT
BEGIN:VEVENT
DTSTART;TZID=Europe/London:20240512T140000
DTEND;TZID=Europe/London:20240512T170000
DTSTAMP:20260419T231539
CREATED:20231218T204356Z
LAST-MODIFIED:20231218T204356Z
UID:492-1715522400-1715533200@neonrush.co.uk
SUMMARY:Dymchurch RBL Club
DESCRIPTION:
URL:https://neonrush.co.uk/event/dymchurch-rbl-club/
LOCATION:Dymchurch RBL Club\, Memorial Hall\, Sea Wall\, Dymchurch\, Romney Marsh\, Kent\, TN29 0TG\, United Kingdom
END:VEVENT
BEGIN:VEVENT
DTSTART;TZID=Europe/London:20240427T210000
DTEND;TZID=Europe/London:20240427T230000
DTSTAMP:20260419T231539
CREATED:20231218T203524Z
LAST-MODIFIED:20231218T203524Z
UID:490-1714251600-1714258800@neonrush.co.uk
SUMMARY:The Churchill Tavern
DESCRIPTION:
URL:https://neonrush.co.uk/event/the-churchill-tavern/
LOCATION:Churchill Tavern\, 9-21 Paragon\, Ramsgate\, Kent\, CT11 9JX\, United Kingdom
END:VEVENT
BEGIN:VEVENT
DTSTART;TZID=Europe/London:20240406T203000
DTEND;TZID=Europe/London:20240406T230000
DTSTAMP:20260419T231539
CREATED:20231218T203419Z
LAST-MODIFIED:20231218T203419Z
UID:488-1712435400-1712444400@neonrush.co.uk
SUMMARY:The George Inn
DESCRIPTION:
URL:https://neonrush.co.uk/event/the-george-inn/
LOCATION:The George Inn\, 52 Albion Street\, Broadstairs\, Kent\, CT101NE\, United Kingdom
END:VEVENT
BEGIN:VEVENT
DTSTART;TZID=Europe/London:20240329T210000
DTEND;TZID=Europe/London:20240329T230000
DTSTAMP:20260419T231539
CREATED:20231218T203254Z
LAST-MODIFIED:20231218T203254Z
UID:485-1711746000-1711753200@neonrush.co.uk
SUMMARY:The Queens Head
DESCRIPTION:
URL:https://neonrush.co.uk/event/the-queens-head/
LOCATION:The Queens Head\, 78 Harbour Parade\, Ramsgate\, Kent\, CT11 8LP\, United Kingdom
END:VEVENT
BEGIN:VEVENT
DTSTART;TZID=Europe/London:20240328T210000
DTEND;TZID=Europe/London:20240328T230000
DTSTAMP:20260419T231539
CREATED:20231218T202919Z
LAST-MODIFIED:20231218T202919Z
UID:482-1711659600-1711666800@neonrush.co.uk
SUMMARY:The Counting House
DESCRIPTION:
URL:https://neonrush.co.uk/event/the-counting-house/
LOCATION:The Counting House\, 42 High St\, Broadstairs\, Kent\, CT10 1JT\, United Kingdom
END:VEVENT
BEGIN:VEVENT
DTSTART;TZID=Europe/London:20240316T210000
DTEND;TZID=Europe/London:20240316T230000
DTSTAMP:20260419T231539
CREATED:20231218T202236Z
LAST-MODIFIED:20231218T202236Z
UID:480-1710622800-1710630000@neonrush.co.uk
SUMMARY:Cin Cin Bar
DESCRIPTION:
URL:https://neonrush.co.uk/event/cin-cin-bar-2/
LOCATION:Cin Cin Bar\, 15a South Court\, Deal\, Kent\, CT14 7AF\, United Kingdom
END:VEVENT
BEGIN:VEVENT
DTSTART;TZID=Europe/London:20240302T203000
DTEND;TZID=Europe/London:20240302T230000
DTSTAMP:20260419T231539
CREATED:20231218T202038Z
LAST-MODIFIED:20231218T202038Z
UID:477-1709411400-1709420400@neonrush.co.uk
SUMMARY:Betteshanger Social Club
DESCRIPTION:
URL:https://neonrush.co.uk/event/betteshanger-social-club/
LOCATION:Betteshanger Social Club\, The Welfare Sportsground\, Cavell Square\, Deal\, Kent\, CT14 9HN\, United Kingdom
END:VEVENT
BEGIN:VEVENT
DTSTART;TZID=Europe/London:20240224T083000
DTEND;TZID=Europe/London:20240224T230000
DTSTAMP:20260419T231539
CREATED:20231230T170251Z
LAST-MODIFIED:20231230T170251Z
UID:537-1708763400-1708815600@neonrush.co.uk
SUMMARY:The Jolly Farmer
DESCRIPTION:
URL:https://neonrush.co.uk/event/the-jolly-farmer/
LOCATION:The Jolly Farmer\, 3 High St\, Manston\, Kent\, CT12 5BG\, United Kingdom
END:VEVENT
BEGIN:VEVENT
DTSTART;TZID=Europe/London:20240210T203000
DTEND;TZID=Europe/London:20240210T230000
DTSTAMP:20260419T231539
CREATED:20231218T201504Z
LAST-MODIFIED:20231218T201504Z
UID:475-1707597000-1707606000@neonrush.co.uk
SUMMARY:Christies Wine Bar
DESCRIPTION:
URL:https://neonrush.co.uk/event/christies-wine-bar/
LOCATION:Christies Wine Bar & Bistro\, 1-5 Station Approach\, Birchington\, Kent\, CT79RD\, United Kingdom
END:VEVENT
BEGIN:VEVENT
DTSTART;TZID=Europe/London:20240127T203000
DTEND;TZID=Europe/London:20240127T233000
DTSTAMP:20260419T231539
CREATED:20231218T201315Z
LAST-MODIFIED:20231218T201315Z
UID:471-1706387400-1706398200@neonrush.co.uk
SUMMARY:Westgate Social Club
DESCRIPTION:
URL:https://neonrush.co.uk/event/westgate-social-club-3/
LOCATION:Westgate Social Club\, 26 St. Mildreds Rd\, Westgate-on-Sea\, Kent\, CT8 8QT\, United Kingdom
END:VEVENT
BEGIN:VEVENT
DTSTART;TZID=Europe/London:20231231T210000
DTEND;TZID=Europe/London:20231231T233000
DTSTAMP:20260419T231539
CREATED:20230414T164714Z
LAST-MODIFIED:20230414T164753Z
UID:327-1704056400-1704065400@neonrush.co.uk
SUMMARY:NYE Party @ The Hussar\, Garlinge
DESCRIPTION:Ticket Only Event – tickets can be purchased directly from the venue.
URL:https://neonrush.co.uk/event/nye-party-the-hussar-garlinge/
LOCATION:The Hussar\, 219 Canterbury Rd\, Garlinge\, Margate\, Kent\, CT9 5JP\, United Kingdom
END:VEVENT
BEGIN:VEVENT
DTSTART;TZID=Europe/London:20231202T203000
DTEND;TZID=Europe/London:20231202T233000
DTSTAMP:20260419T231539
CREATED:20230414T164537Z
LAST-MODIFIED:20230414T164537Z
UID:323-1701549000-1701559800@neonrush.co.uk
SUMMARY:Westgate Social Club
DESCRIPTION:
URL:https://neonrush.co.uk/event/westgate-social-club-2/
LOCATION:Westgate Social Club\, 26 St. Mildreds Rd\, Westgate-on-Sea\, Kent\, CT8 8QT\, United Kingdom
END:VEVENT
BEGIN:VEVENT
DTSTART;TZID=Europe/London:20231125T210000
DTEND;TZID=Europe/London:20231125T233000
DTSTAMP:20260419T231539
CREATED:20230414T164440Z
LAST-MODIFIED:20230414T164440Z
UID:321-1700946000-1700955000@neonrush.co.uk
SUMMARY:The Churchill Tavern\, Ramsgate
DESCRIPTION:
URL:https://neonrush.co.uk/event/the-churchill-tavern-ramsgate-3/
LOCATION:Churchill Tavern\, 9-21 Paragon\, Ramsgate\, Kent\, CT11 9JX\, United Kingdom
END:VEVENT
BEGIN:VEVENT
DTSTART;TZID=Europe/London:20231111T203000
DTEND;TZID=Europe/London:20231111T233000
DTSTAMP:20260419T231539
CREATED:20230414T164352Z
LAST-MODIFIED:20230414T164352Z
UID:319-1699734600-1699745400@neonrush.co.uk
SUMMARY:The Northwood Club\, Ramsgate
DESCRIPTION:
URL:https://neonrush.co.uk/event/the-northwood-club-ramsgate-2/
LOCATION:The Northwood Club\, 55 Northwood Rd\, Ramsgate\, Kent\, CT126RS\, United Kingdom
END:VEVENT
BEGIN:VEVENT
DTSTART;TZID=Europe/London:20231028T203000
DTEND;TZID=Europe/London:20231028T233000
DTSTAMP:20260419T231539
CREATED:20230414T164309Z
LAST-MODIFIED:20230414T164309Z
UID:317-1698525000-1698535800@neonrush.co.uk
SUMMARY:The Hussar\, Garlinge
DESCRIPTION:
URL:https://neonrush.co.uk/event/the-hussar-garlinge-2/
LOCATION:The Hussar\, 219 Canterbury Rd\, Garlinge\, Margate\, Kent\, CT9 5JP\, United Kingdom
END:VEVENT
BEGIN:VEVENT
DTSTART;TZID=Europe/London:20231014T203000
DTEND;TZID=Europe/London:20231014T233000
DTSTAMP:20260419T231539
CREATED:20230414T164226Z
LAST-MODIFIED:20230414T164918Z
UID:315-1697315400-1697326200@neonrush.co.uk
SUMMARY:The George Inn\, Broadstairs
DESCRIPTION:
URL:https://neonrush.co.uk/event/the-george-inn-broadstairs-3/
LOCATION:The George Inn\, 52 Albion Street\, Broadstairs\, Kent\, CT101NE\, United Kingdom
END:VEVENT
BEGIN:VEVENT
DTSTART;TZID=Europe/London:20230923T210000
DTEND;TZID=Europe/London:20230923T233000
DTSTAMP:20260419T231539
CREATED:20230414T164136Z
LAST-MODIFIED:20230414T164136Z
UID:313-1695502800-1695511800@neonrush.co.uk
SUMMARY:The Churchill Tavern\, Ramsgate
DESCRIPTION:
URL:https://neonrush.co.uk/event/the-churchill-tavern-ramsgate-2/
LOCATION:Churchill Tavern\, 9-21 Paragon\, Ramsgate\, Kent\, CT11 9JX\, United Kingdom
END:VEVENT
BEGIN:VEVENT
DTSTART;TZID=Europe/London:20230915T203000
DTEND;TZID=Europe/London:20230915T233000
DTSTAMP:20260419T231539
CREATED:20230414T164049Z
LAST-MODIFIED:20230414T164049Z
UID:311-1694809800-1694820600@neonrush.co.uk
SUMMARY:Christies Wine Bar & Bistro\, Birchington
DESCRIPTION:
URL:https://neonrush.co.uk/event/christies-wine-bar-bistro-birchington-2/
LOCATION:Christies Wine Bar & Bistro\, 1-5 Station Approach\, Birchington\, Kent\, CT79RD\, United Kingdom
END:VEVENT
BEGIN:VEVENT
DTSTART;TZID=Europe/London:20230813T190000
DTEND;TZID=Europe/London:20230813T213000
DTSTAMP:20260419T231539
CREATED:20230414T163753Z
LAST-MODIFIED:20230713T221847Z
UID:309-1691953200-1691962200@neonrush.co.uk
SUMMARY:The Pavilion\, Broadstairs
DESCRIPTION:
URL:https://neonrush.co.uk/event/the-pavilion-broadstairs/
LOCATION:The Pavilion Broadstairs\, Harbour St\, Broadstairs\, Kent\, CT10 1EU\, United Kingdom
END:VEVENT
END:VCALENDAR